BEGIN:VCALENDAR
VERSION:2.0
PRODID:-//eventon.com NONSGML v1.0//EN
CALSCALE:GREGORIAN
METHOD:PUBLISH
BEGIN:VEVENT
UID:69e55a0c0469c
DTSTAMP:20260419T224116Z
DTSTART:20220721T190000Z
DTEND:20220721T210000Z
LOCATION:
SUMMARY:Exhibición + conversatorio "Onkel Günter". Sala Estación
DESCRIPTION:Exhibición + conversatorio "Onkel Günter". Sala Estación
URL:https://www.santiagocultura.cl/events/exhibicion-conversatorio-onkel-gunter-sala-estacion/
END:VEVENT
END:VCALENDAR