BEGIN:VCALENDAR
VERSION:2.0
PRODID:-//eventon.com NONSGML v1.0//EN
CALSCALE:GREGORIAN
METHOD:PUBLISH
BEGIN:VEVENT
UID:69ebf96a730f0
DTSTAMP:20260424T231450Z
DTSTART:20220709
DTEND:20220710
LOCATION:
SUMMARY:Vacaciones de Invierno en Museo Taller
DESCRIPTION:Vacaciones de Invierno en Museo Taller
URL:https://www.santiagocultura.cl/events/vacaciones-de-invierno-en-museo-taller/
END:VEVENT
END:VCALENDAR