BEGIN:VCALENDAR
VERSION:2.0
PRODID:-//eventon.com NONSGML v1.0//EN
CALSCALE:GREGORIAN
METHOD:PUBLISH
BEGIN:VEVENT
UID:69e5dc5a59dc6
DTSTAMP:20260420T075714Z
DTSTART:20220624
DTEND:20220625
LOCATION:
SUMMARY:Talleres presenciales: Henna\,  pintura experimental\,  acuerala y más!. CCLM
DESCRIPTION:Talleres presenciales: Henna\,  pintura experimental\,  acueral
 a y más!. CCLM
URL:https://www.santiagocultura.cl/events/talleres-presenciales-henna-pintura-experimental-acuerala-y-mas-centro-cultural-la-moneda/
END:VEVENT
END:VCALENDAR