BEGIN:VCALENDAR
VERSION:2.0
PRODID:-//eventon.com NONSGML v1.0//EN
CALSCALE:GREGORIAN
METHOD:PUBLISH
BEGIN:VEVENT
UID:69e7a1e6ebf43
DTSTAMP:20260421T161222Z
DTSTART:20220616
DTEND:20220617
LOCATION:
SUMMARY:Teatro: “Trazos íntimos de Frida Kahlo”. Teatro de Bolsillo
DESCRIPTION:“Trazos íntimos de Frida Kahlo” es el título de la obra q
 ue la compañía presentará de jueves a sábado\,  a las 20:30 horas.\,  a
  contar del próximo 16 de junio. Se trata de una propuesta escénica que i
 nvita al espectador a un viaje sensorial y en cuyas estaciones reluce\,  de
 [..]
URL:https://www.santiagocultura.cl/events/10673/
END:VEVENT
END:VCALENDAR