BEGIN:VCALENDAR
VERSION:2.0
PRODID:-//eventon.com NONSGML v1.0//EN
CALSCALE:GREGORIAN
METHOD:PUBLISH
BEGIN:VEVENT
UID:69e53e34f1006
DTSTAMP:20260419T204228Z
DTSTART:20220615T200000Z
DTEND:20220615T220000Z
LOCATION:
SUMMARY:Ciclo Música de Catacumbas: Felipe Báez y Sonora Chilean Club. CEINA
DESCRIPTION:Ciclo Música de Catacumbas: Felipe Báez y Sonora Chilean Club
 . CEINA
URL:https://www.santiagocultura.cl/events/ciclo-musica-de-catacumbas-felipe-baez-y-sonora-chilean-club-ceina/
END:VEVENT
END:VCALENDAR