BEGIN:VCALENDAR
VERSION:2.0
PRODID:-//eventon.com NONSGML v1.0//EN
CALSCALE:GREGORIAN
METHOD:PUBLISH
BEGIN:VEVENT
UID:69e8a9434f551
DTSTAMP:20260422T105603Z
DTSTART:20220504
DTEND:20220505
LOCATION:
SUMMARY:Escuelas Abiertas: Taller de artes textiles "Sentir Bordando". Liceo Darío Salas
DESCRIPTION:Escuelas Abiertas: Taller de artes textiles "Sentir Bordando". 
 Liceo Darío Salas
URL:https://www.santiagocultura.cl/events/escuelas-abiertas-taller-de-artes-textiles-sentir-bordando-liceo-dario-salas/
END:VEVENT
END:VCALENDAR